BEGIN:VCALENDAR
VERSION:2.0
METHOD:PUBLISH
X-WR-CALNAME;VALUE=TEXT:Agenda #5836
PRODID:-//Drupal iCal API//EN
BEGIN:VEVENT
SUMMARY: Focus métiers 7 nov. 2023 : Information métiers de la logistique Bretagne
DTSTART: 20231107T090000
DTEND: 20231107T103000
DESCRIPTION: Venez participer à une réunion en visio sur les métiers de la Logistique&nbsp;!

Magasinier, Cariste, Préparateur de commandes, Gestionnaire de stocks, Responsable d'entrepôts, ...

Gratuit et ouvert à tous publics ...
END:VEVENT
BEGIN:VEVENT
SUMMARY: Focus métiers 7 nov. 2023 : Information métiers de la logistique Bretagne
DTSTART: 20231107T090000
DTEND: 20231107T103000
DESCRIPTION: Venez participer à une réunion en visio sur les métiers de la Logistique&nbsp;!

Magasinier, Cariste, Préparateur de commandes, Gestionnaire de stocks, Responsable d'entrepôts, ...

Gratuit et ouvert à tous publics ...
END:VEVENT
END:VCALENDAR
