BEGIN:VCALENDAR
VERSION:2.0
METHOD:PUBLISH
X-WR-CALNAME;VALUE=TEXT:Agenda #5837
PRODID:-//Drupal iCal API//EN
BEGIN:VEVENT
SUMMARY: Focus métiers 10 oct. 2023 : Information métiers du Transport de marchandises Bretagne
DTSTART: 20231010T120000
DTEND: 20231010T133000
DESCRIPTION: Venez participer à une réunion en visio sur les métiers du secteur du transport de marchandises&nbsp;!

Conduite, exploitation Transport ,&nbsp;...

Gratuit et ouvert à tous publics ...
END:VEVENT
BEGIN:VEVENT
SUMMARY: Focus métiers 10 oct. 2023 : Information métiers du Transport de marchandises Bretagne
DTSTART: 20231010T120000
DTEND: 20231010T133000
DESCRIPTION: Venez participer à une réunion en visio sur les métiers du secteur du transport de marchandises&nbsp;!

Conduite, exploitation Transport ,&nbsp;...

Gratuit et ouvert à tous publics ...
END:VEVENT
END:VCALENDAR
