BEGIN:VCALENDAR
VERSION:2.0
METHOD:PUBLISH
X-WR-CALNAME;VALUE=TEXT:Agenda #5874
PRODID:-//Drupal iCal API//EN
BEGIN:VEVENT
SUMMARY: Montpellier : Détection de potentiel au Pôle emploi
DTSTART: 20230928T070000
DTEND: 20230928T070000
DESCRIPTION: Présentation des métiers Transport Logistique aux demandeurs d'emploi, le Jeudi 28 septembre de 9h à 11h&nbsp;au Pôle Emploi à Montpellier-Pérols.

Inscription obligatoire auprès de son conseiller Pôle Emploi&nbsp;
END:VEVENT
BEGIN:VEVENT
SUMMARY: Montpellier : Détection de potentiel au Pôle emploi
DTSTART: 20230928T070000
DTEND: 20230928T070000
DESCRIPTION: Présentation des métiers Transport Logistique aux demandeurs d'emploi, le Jeudi 28 septembre de 9h à 11h&nbsp;au Pôle Emploi à Montpellier-Pérols.

Inscription obligatoire auprès de son conseiller Pôle Emploi&nbsp;
END:VEVENT
BEGIN:VEVENT
SUMMARY: Montpellier : Détection de potentiel au Pôle emploi
DTSTART: 20230928T070000
DTEND: 20230928T070000
DESCRIPTION: Présentation des métiers Transport Logistique aux demandeurs d'emploi, le Jeudi 28 septembre de 9h à 11h&nbsp;au Pôle Emploi à Montpellier-Pérols.

Inscription obligatoire auprès de son conseiller Pôle Emploi&nbsp;
END:VEVENT
END:VCALENDAR
