BEGIN:VCALENDAR
VERSION:2.0
METHOD:PUBLISH
X-WR-CALNAME;VALUE=TEXT:Agenda #5877
PRODID:-//Drupal iCal API//EN
BEGIN:VEVENT
SUMMARY: Mercredi 20 septembre : Salon Jeunes d'Avenirs à Paris Montreuil Expo
DTSTART: 20230920T070000
DTEND: 20230920T160000
DESCRIPTION: Retrouvez l' AFT Ile-de-France au Salon Jeunes d'Avenirs à Paris Montreuil Expo et&nbsp;découvrez les métiers, les formations et les nombreuses opportunités du secteur Transport-Logistique !

&nbsp;
END:VEVENT
END:VCALENDAR
