BEGIN:VCALENDAR
VERSION:2.0
METHOD:PUBLISH
X-WR-CALNAME;VALUE=TEXT:Agenda #5878
PRODID:-//Drupal iCal API//EN
BEGIN:VEVENT
SUMMARY: Jeudi 21 septembre : évènement de recrutement Job Tour A7
DTSTART: 20230921T070000
DTEND: 20230921T150000
DESCRIPTION: Venez découvrir le secteur du transport et de la logistique lors&nbsp;de l'évènement Sport-Emploi&nbsp;Job Tour A7 organisé par Job Odyssée!

&nbsp;

&nbsp;

&nbsp;
END:VEVENT
END:VCALENDAR
