BEGIN:VCALENDAR
VERSION:2.0
METHOD:PUBLISH
X-WR-CALNAME;VALUE=TEXT:Agenda #5881
PRODID:-//Drupal iCal API//EN
BEGIN:VEVENT
SUMMARY: Vendredi 22 septembre :19e réunion du Club des employeurs engagés en faveur de la sécurité routière
DTSTART: 20230922T073000
DTEND: 20230922T103000
DESCRIPTION: Dans le cadre de son action en faveur de la prévention routière, l'AFT TRANSPORT LOGISTIQUE Ile-de-France sera présente à la&nbsp;19e réunion du Club des employeurs engagés en faveur de la sécurité routière.
END:VEVENT
END:VCALENDAR
