BEGIN:VCALENDAR
VERSION:2.0
METHOD:PUBLISH
X-WR-CALNAME;VALUE=TEXT:Agenda #5883
PRODID:-//Drupal iCal API//EN
BEGIN:VEVENT
SUMMARY: Mardi 26 septembre : Forum de l'Emploi à l'Haÿ-les-Roses
DTSTART: 20230926T080000
DTEND: 20230926T140000
DESCRIPTION: Le Forum du Moulin de la Bièvre, organisé en partenariat avec l’Etablissement Public Territorial Grand-Orly Seine Bièvre, le Pôle Emploi et les cinq villes d’intervention de la Mission Locale, se tient à nouveau cette année pour sa 22ème édition .

Venez rencontrer l' AFT TRANSPORT LOGISTIQUE Ile-de-France et découvrir les métiers et les opportunités du secteur du Transport et de la Logistique.
END:VEVENT
END:VCALENDAR
