BEGIN:VCALENDAR
VERSION:2.0
METHOD:PUBLISH
X-WR-CALNAME;VALUE=TEXT:Agenda #5884
PRODID:-//Drupal iCal API//EN
BEGIN:VEVENT
SUMMARY: Mercredi 27 septembre : Olympiades de l'Emploi à Stains
DTSTART: 20230927T120000
DTEND: 20230927T160000
DESCRIPTION: Venez découvrir les métiers et les nombreuses opportunités du secteur du Transport et de la Logistique auprès de l'AFT TRANSPORT LOGISTIQUE&nbsp;Ile-de-France!
END:VEVENT
END:VCALENDAR
