BEGIN:VCALENDAR
VERSION:2.0
METHOD:PUBLISH
X-WR-CALNAME;VALUE=TEXT:Agenda #5886
PRODID:-//Drupal iCal API//EN
BEGIN:VEVENT
SUMMARY: jeudi 28 septembre : Les stagiaires de la filière logistique du GRETA 94 visitent le site Log'ins
DTSTART: 20230928T080000
DTEND: 20230928T100000
DESCRIPTION: Le jeudi 28 septembre, dans le cadre du parcours d'accès à la qualification des métiers de la logistique les stagiaires du GRETA Val de Marne accompagnés de la Délégation AFT Ile-de-France&nbsp;visiteront le site Log'ins situé à Lieusaint.
END:VEVENT
END:VCALENDAR
