BEGIN:VCALENDAR
VERSION:2.0
METHOD:PUBLISH
X-WR-CALNAME;VALUE=TEXT:Agenda #5887
PRODID:-//Drupal iCal API//EN
BEGIN:VEVENT
SUMMARY: Club Prévention Transport &amp; Logistique en Auvergne-Rhône-Alpes
DTSTART: 20230921T083000
DTEND: 20230921T100000
DESCRIPTION: La prévention des risques professionnels représente un fort enjeu de santé pour les entreprises de notre branche mais également une opportunité pour agir sur les&nbsp;accidents du travail et réduire l’absentéisme des salariés.
END:VEVENT
END:VCALENDAR
