BEGIN:VCALENDAR
VERSION:2.0
METHOD:PUBLISH
X-WR-CALNAME;VALUE=TEXT:Agenda #5888
PRODID:-//Drupal iCal API//EN
BEGIN:VEVENT
SUMMARY: 19 octobre :Découverte des métiers du transport et de la logistique à la Mission Locale de Villiers-sur-Marne
DTSTART: 20231019T120000
DTEND: 20231019T140000
DESCRIPTION: Après une présentation des métiers du transport et de la logistique par la Délégation AFT Ile-de-France, les jeunes de la Mission Locale&nbsp;de Villiers-sur-Marne munis d'un casque de réalité&nbsp;virtuelle&nbsp;seront en immersion&nbsp;dans le quotidien d'un professionnel du secteur !

&nbsp;

&nbsp;
END:VEVENT
END:VCALENDAR
