BEGIN:VCALENDAR
VERSION:2.0
METHOD:PUBLISH
X-WR-CALNAME;VALUE=TEXT:Agenda #5892
PRODID:-//Drupal iCal API//EN
BEGIN:VEVENT
SUMMARY: Vauvert : Découvrez le métier de Mécanicien avec les Transports Gardois
DTSTART: 20230920T070000
DTEND: 20230920T070000
DESCRIPTION: Mercredi 20 septembre prochain de 9h à 12h, les Transports GARDOIS ouvrent leurs portes pour vous faire découvrir le métier de Mécanicien.&nbsp;

L'AFT Occitanie sera présente à leur côté.&nbsp;
END:VEVENT
BEGIN:VEVENT
SUMMARY: Vauvert : Découvrez le métier de Mécanicien avec les Transports Gardois
DTSTART: 20230920T070000
DTEND: 20230920T070000
DESCRIPTION: Mercredi 20 septembre prochain de 9h à 12h, les Transports GARDOIS ouvrent leurs portes pour vous faire découvrir le métier de Mécanicien.&nbsp;

L'AFT Occitanie sera présente à leur côté.&nbsp;
END:VEVENT
BEGIN:VEVENT
SUMMARY: Vauvert : Découvrez le métier de Mécanicien avec les Transports Gardois
DTSTART: 20230920T070000
DTEND: 20230920T070000
DESCRIPTION: Mercredi 20 septembre prochain de 9h à 12h, les Transports GARDOIS ouvrent leurs portes pour vous faire découvrir le métier de Mécanicien.&nbsp;

L'AFT Occitanie sera présente à leur côté.&nbsp;
END:VEVENT
BEGIN:VEVENT
SUMMARY: Vauvert : Découvrez le métier de Mécanicien avec les Transports Gardois
DTSTART: 20230920T070000
DTEND: 20230920T070000
DESCRIPTION: Mercredi 20 septembre prochain de 9h à 12h, les Transports GARDOIS ouvrent leurs portes pour vous faire découvrir le métier de Mécanicien.&nbsp;

L'AFT Occitanie sera présente à leur côté.&nbsp;
END:VEVENT
END:VCALENDAR
