BEGIN:VCALENDAR
VERSION:2.0
METHOD:PUBLISH
X-WR-CALNAME;VALUE=TEXT:Agenda #5914
PRODID:-//Drupal iCal API//EN
BEGIN:VEVENT
SUMMARY: MONTPELLIER : Présentation des métiers Transport Logistique au Centre A.B.C.
DTSTART: 20231003T070000
DTEND: 20231003T070000
DESCRIPTION: L'AFT Occitanie présentera les métiers du Transport et de la Logistique le Mardi 3 octobre prochain de 9h à 11h au Centre d'Accompagnement et Bilan de Compétence.
END:VEVENT
BEGIN:VEVENT
SUMMARY: MONTPELLIER : Présentation des métiers Transport Logistique au Centre A.B.C.
DTSTART: 20231003T070000
DTEND: 20231003T070000
DESCRIPTION: L'AFT Occitanie présentera les métiers du Transport et de la Logistique le Mardi 3 octobre prochain de 9h à 11h au Centre d'Accompagnement et Bilan de Compétence.
END:VEVENT
BEGIN:VEVENT
SUMMARY: MONTPELLIER : Présentation des métiers Transport Logistique au Centre A.B.C.
DTSTART: 20231003T070000
DTEND: 20231003T070000
DESCRIPTION: L'AFT Occitanie présentera les métiers du Transport et de la Logistique le Mardi 3 octobre prochain de 9h à 11h au Centre d'Accompagnement et Bilan de Compétence.
END:VEVENT
END:VCALENDAR
