BEGIN:VCALENDAR
VERSION:2.0
METHOD:PUBLISH
X-WR-CALNAME;VALUE=TEXT:Agenda #5915
PRODID:-//Drupal iCal API//EN
BEGIN:VEVENT
SUMMARY: Occitanie - "Transport Logistique en mouvement" : Quand l'AFT mobilise son réseau
DTSTART: 20231113T080000
DTEND: 20231117T170000
DESCRIPTION: L'AFT Occitanie mobilise son réseau du 13 au 17 novembre prochain&nbsp;pour organiser une opération&nbsp;d’envergure "Le Transport-Logistique en mouvement". Plusieurs actions seront menées dans la région durant la semaine.
END:VEVENT
BEGIN:VEVENT
SUMMARY: Occitanie - "Transport Logistique en mouvement" : Quand l'AFT mobilise son réseau
DTSTART: 20231113T080000
DTEND: 20231117T170000
DESCRIPTION: L'AFT Occitanie mobilise son réseau du 13 au 17 novembre prochain&nbsp;pour organiser une opération&nbsp;d’envergure "Le Transport-Logistique en mouvement". Plusieurs actions seront menées dans la région durant la semaine.
END:VEVENT
BEGIN:VEVENT
SUMMARY: Occitanie - "Transport Logistique en mouvement" : Quand l'AFT mobilise son réseau
DTSTART: 20231113T080000
DTEND: 20231117T170000
DESCRIPTION: L'AFT Occitanie mobilise son réseau du 13 au 17 novembre prochain&nbsp;pour organiser une opération&nbsp;d’envergure "Le Transport-Logistique en mouvement". Plusieurs actions seront menées dans la région durant la semaine.
END:VEVENT
BEGIN:VEVENT
SUMMARY: Occitanie - "Transport Logistique en mouvement" : Quand l'AFT mobilise son réseau
DTSTART: 20231113T080000
DTEND: 20231117T170000
DESCRIPTION: L'AFT Occitanie mobilise son réseau du 13 au 17 novembre prochain&nbsp;pour organiser une opération&nbsp;d’envergure "Le Transport-Logistique en mouvement". Plusieurs actions seront menées dans la région durant la semaine.
END:VEVENT
END:VCALENDAR
