BEGIN:VCALENDAR
VERSION:2.0
METHOD:PUBLISH
X-WR-CALNAME;VALUE=TEXT:Agenda #5916
PRODID:-//Drupal iCal API//EN
BEGIN:VEVENT
SUMMARY: Lundi 02 octobre : Intervention sur les métiers de la logistique au GRETA de Fontainebleau
DTSTART: 20231002T073000
DTEND: 20231002T090000
DESCRIPTION: La Délégation AFT Ile-de-France interviendra auprès du GRETA de Fontainebleau pour parler de la logistique de façon ludique.

Au programme: Quizz roulette des métiers et expérience immersive avec nos casques de réalité virtuelle!&nbsp;
END:VEVENT
END:VCALENDAR
