BEGIN:VCALENDAR
VERSION:2.0
METHOD:PUBLISH
X-WR-CALNAME;VALUE=TEXT:Agenda #5918
PRODID:-//Drupal iCal API//EN
BEGIN:VEVENT
SUMMARY: Le 03 octobre: Découverte des métiers du transport et de la logistique à l'E2C de Villebon-sur-Yvette
DTSTART: 20231003T071500
DTEND: 20231003T084500
DESCRIPTION: Dans le cadre de leur parcours , la Délégation AFT Ile-de -France présentera les métiers, les formations et les nombreuses opportunités&nbsp;du secteur du transport et de la logistique à la dernière promotion des jeunes de l'E2C de Villebon-sur-Yvette. Cette présentation sera suivi d'une immersion métiers en réalité virtuelle.
END:VEVENT
END:VCALENDAR
