BEGIN:VCALENDAR
VERSION:2.0
METHOD:PUBLISH
X-WR-CALNAME;VALUE=TEXT:Agenda #5925
PRODID:-//Drupal iCal API//EN
BEGIN:VEVENT
SUMMARY: Les Talents du Transport et de la Logistique
DTSTART: 20231003T110000
DTEND: 20231003T110000
DESCRIPTION: ÉVÉNEMENT EXCEPTIONNEL DANS LE DOMAINE DU TRANSPORT ET DE LA LOGISTIQUE !

Mardi 3 octobre 2023, de 13h à 18h au Conseil Régional, 151 avenue du Président Hoover à Lille.
END:VEVENT
BEGIN:VEVENT
SUMMARY: Les Talents du Transport et de la Logistique
DTSTART: 20231003T110000
DTEND: 20231003T110000
DESCRIPTION: ÉVÉNEMENT EXCEPTIONNEL DANS LE DOMAINE DU TRANSPORT ET DE LA LOGISTIQUE !

Mardi 3 octobre 2023, de 13h à 18h au Conseil Régional, 151 avenue du Président Hoover à Lille.
END:VEVENT
BEGIN:VEVENT
SUMMARY: Les Talents du Transport et de la Logistique
DTSTART: 20231003T110000
DTEND: 20231003T110000
DESCRIPTION: ÉVÉNEMENT EXCEPTIONNEL DANS LE DOMAINE DU TRANSPORT ET DE LA LOGISTIQUE !

Mardi 3 octobre 2023, de 13h à 18h au Conseil Régional, 151 avenue du Président Hoover à Lille.
END:VEVENT
END:VCALENDAR
