BEGIN:VCALENDAR
VERSION:2.0
METHOD:PUBLISH
X-WR-CALNAME;VALUE=TEXT:Agenda #6057
PRODID:-//Drupal iCal API//EN
BEGIN:VEVENT
SUMMARY: Toulouse : Forum HANDY RECRUTEMENT
DTSTART: 20231122T123000
DTEND: 20231122T123000
DESCRIPTION: L’Agefiph Occitanie, avec l’appui de Face Grand Toulouse, donne rendez-vous aux entreprises et aux personnes en situation de handicap en recherche d’emploi au salon Handy Recrutement.

&nbsp;

Cette 10e édition se tiendra le 22 novembre à l'Espace Vanel de Toulouse de 13h30 à 17h. L'AFT Occitanie sera présente pour présenter les métiers du Transport et de la Logistique&nbsp;
END:VEVENT
BEGIN:VEVENT
SUMMARY: Toulouse : Forum HANDY RECRUTEMENT
DTSTART: 20231122T123000
DTEND: 20231122T123000
DESCRIPTION: L’Agefiph Occitanie, avec l’appui de Face Grand Toulouse, donne rendez-vous aux entreprises et aux personnes en situation de handicap en recherche d’emploi au salon Handy Recrutement.

&nbsp;

Cette 10e édition se tiendra le 22 novembre à l'Espace Vanel de Toulouse de 13h30 à 17h. L'AFT Occitanie sera présente pour présenter les métiers du Transport et de la Logistique&nbsp;
END:VEVENT
BEGIN:VEVENT
SUMMARY: Toulouse : Forum HANDY RECRUTEMENT
DTSTART: 20231122T123000
DTEND: 20231122T123000
DESCRIPTION: L’Agefiph Occitanie, avec l’appui de Face Grand Toulouse, donne rendez-vous aux entreprises et aux personnes en situation de handicap en recherche d’emploi au salon Handy Recrutement.

&nbsp;

Cette 10e édition se tiendra le 22 novembre à l'Espace Vanel de Toulouse de 13h30 à 17h. L'AFT Occitanie sera présente pour présenter les métiers du Transport et de la Logistique&nbsp;
END:VEVENT
END:VCALENDAR
