BEGIN:VCALENDAR
VERSION:2.0
METHOD:PUBLISH
X-WR-CALNAME;VALUE=TEXT:Agenda #6060
PRODID:-//Drupal iCal API//EN
BEGIN:VEVENT
SUMMARY: L'AFT à l'Université 2023 de l'AFREF
DTSTART: 20231206T080000
DTEND: 20231206T153000
DESCRIPTION:
END:VEVENT
END:VCALENDAR
