BEGIN:VCALENDAR
VERSION:2.0
METHOD:PUBLISH
X-WR-CALNAME;VALUE=TEXT:Agenda #6061
PRODID:-//Drupal iCal API//EN
BEGIN:VEVENT
SUMMARY: Webconférence Hybridation des formations professionnelles continues
DTSTART: 20231128T090000
DTEND: 20231128T113000
DESCRIPTION:
END:VEVENT
END:VCALENDAR
