BEGIN:VCALENDAR
VERSION:2.0
METHOD:PUBLISH
X-WR-CALNAME;VALUE=TEXT:Agenda #6063
PRODID:-//Drupal iCal API//EN
BEGIN:VEVENT
SUMMARY: L'AFT intervient lors du "Digital Innovation Seasons"
DTSTART: 20231205T130000
DTEND: 20231205T170000
DESCRIPTION:
END:VEVENT
END:VCALENDAR
