BEGIN:VCALENDAR
VERSION:2.0
METHOD:PUBLISH
X-WR-CALNAME;VALUE=TEXT:Agenda #6068
PRODID:-//Drupal iCal API//EN
BEGIN:VEVENT
SUMMARY: Mercredi 22 novembre : AFTRAL Rungis ouvre ses portes !
DTSTART: 20231122T080000
DTEND: 20231122T110000
DESCRIPTION: &nbsp;




&nbsp;
END:VEVENT
END:VCALENDAR
