BEGIN:VCALENDAR
VERSION:2.0
METHOD:PUBLISH
X-WR-CALNAME;VALUE=TEXT:Agenda #6069
PRODID:-//Drupal iCal API//EN
BEGIN:VEVENT
SUMMARY: Jeudi 23 novembre : le job truck vous donne rendez-vous à Thiais Village!
DTSTART: 20231123T130000
DTEND: 20231123T160000
DESCRIPTION: Le job truck du CBE&nbsp;vous attend le jeudi 23 novembre&nbsp;à Thiais Village!

Venez découvrir&nbsp;les métiers du transport et de la logistique auprès de l'AFT Ile-de-France!
END:VEVENT
END:VCALENDAR
