BEGIN:VCALENDAR
VERSION:2.0
METHOD:PUBLISH
X-WR-CALNAME;VALUE=TEXT:Agenda #6071
PRODID:-//Drupal iCal API//EN
BEGIN:VEVENT
SUMMARY: Mercredi 29 novembre: le site Carrefour Supply Chain de Combs-la-Ville ouvre ses portes au GRETA Seine &amp; Marne !
DTSTART: 20231129T083000
DTEND: 20231129T103000
DESCRIPTION: Lancée à l'initiative&nbsp;de L'AFT Ile-de-France, le site Carrefour Supply Chain situé à Combs-la-Ville ouvre ses porte aux stagiaires en formation logistique avec le GRETA Seine et Marne leur permettant de découvrir les métiers du secteur!

&nbsp;
END:VEVENT
END:VCALENDAR
