BEGIN:VCALENDAR
VERSION:2.0
METHOD:PUBLISH
X-WR-CALNAME;VALUE=TEXT:Agenda #6073
PRODID:-//Drupal iCal API//EN
BEGIN:VEVENT
SUMMARY: Lundi 04 décembre: Information collective sur les métiers du transport et de la logistique au Pôle Emploi de Brunoy
DTSTART: 20231204T133000
DTEND: 20231204T150000
DESCRIPTION: Le lundi 04 décembre, l'AFT Ile-de-France interviendra à l'agence&nbsp;Pôle Emploi de Brunoy afin de faire découvrir en réalité&nbsp;virtuelle les métiers du secteur du transport et de logistique aux demandeurs d'emploi!
END:VEVENT
END:VCALENDAR
