BEGIN:VCALENDAR
VERSION:2.0
METHOD:PUBLISH
X-WR-CALNAME;VALUE=TEXT:Agenda #6075
PRODID:-//Drupal iCal API//EN
BEGIN:VEVENT
SUMMARY: Mardi 05 décembre: Découverte des métiers du transport et de la logistique à l'E2C de Ris-Orangis
DTSTART: 20231205T123000
DTEND: 20231205T140000
DESCRIPTION: Le mardi 05 décembre, dans le cadre de leur parcours, les jeunes de&nbsp;l'E2C de Ris-Orangis découvriront les métiers et les opportunités du secteur du transport et de la logistique auprès de la délégation AFT Ile-de-France. Une immersion des métiers en réalité&nbsp;virtuelle du secteur Transport-Logistique est également prévue au programme!
END:VEVENT
END:VCALENDAR
