BEGIN:VCALENDAR
VERSION:2.0
METHOD:PUBLISH
X-WR-CALNAME;VALUE=TEXT:Agenda #6080
PRODID:-//Drupal iCal API//EN
BEGIN:VEVENT
SUMMARY: Montpellier : Réunion du Comité Régional de Formation Professionnelle Transport Logistique
DTSTART: 20231128T090000
DTEND: 20231128T090000
DESCRIPTION: Réunion du Comité Régional de Formation Professionnelle Transport Logistique Mardi 28 novembre&nbsp;prochain&nbsp;de 10h&nbsp;à 13h&nbsp;&nbsp;à l'AFT de Pérols (34)
END:VEVENT
BEGIN:VEVENT
SUMMARY: Montpellier : Réunion du Comité Régional de Formation Professionnelle Transport Logistique
DTSTART: 20231128T090000
DTEND: 20231128T090000
DESCRIPTION: Réunion du Comité Régional de Formation Professionnelle Transport Logistique Mardi 28 novembre&nbsp;prochain&nbsp;de 10h&nbsp;à 13h&nbsp;&nbsp;à l'AFT de Pérols (34)
END:VEVENT
END:VCALENDAR
