BEGIN:VCALENDAR
VERSION:2.0
METHOD:PUBLISH
X-WR-CALNAME;VALUE=TEXT:Agenda #6081
PRODID:-//Drupal iCal API//EN
BEGIN:VEVENT
SUMMARY: Toulouse/Montpellier : 4eme comité de suivi Charte des ambassadeurs de l'emploi
DTSTART: 20231201T080000
DTEND: 20231201T080000
DESCRIPTION: Vendredi 1 décembre prochain de 9h à 12 et de 13h45 à 15h, aura lieu à l'AFT Toulouse et en visio pour Montpellier, le 4eme comité de suivi de la charte des ambassadeurs de l'emploi.&nbsp;

&nbsp;6 entreprises de la région Occitanie viendront soutenir devant le comité, leurs engagements et les actions qu'elles souhaitent valoriser sur les 3 ans à venir à savoir sur 2024 - 2025 - 2026.&nbsp;

Les entreprises :&nbsp;

DENJEAN LOGISTIQUE 09

STEF LOGISTIQUE 82

BTV 31

AUTOCARS BARRIERE 82

XPO 34

GROUPE ASSIE 11
END:VEVENT
BEGIN:VEVENT
SUMMARY: Toulouse/Montpellier : 4eme comité de suivi Charte des ambassadeurs de l'emploi
DTSTART: 20231201T080000
DTEND: 20231201T080000
DESCRIPTION: Vendredi 1 décembre prochain de 9h à 12 et de 13h45 à 15h, aura lieu à l'AFT Toulouse et en visio pour Montpellier, le 4eme comité de suivi de la charte des ambassadeurs de l'emploi.&nbsp;

&nbsp;6 entreprises de la région Occitanie viendront soutenir devant le comité, leurs engagements et les actions qu'elles souhaitent valoriser sur les 3 ans à venir à savoir sur 2024 - 2025 - 2026.&nbsp;

Les entreprises :&nbsp;

DENJEAN LOGISTIQUE 09

STEF LOGISTIQUE 82

BTV 31

AUTOCARS BARRIERE 82

XPO 34

GROUPE ASSIE 11
END:VEVENT
END:VCALENDAR
