BEGIN:VCALENDAR
VERSION:2.0
METHOD:PUBLISH
X-WR-CALNAME;VALUE=TEXT:Agenda #6082
PRODID:-//Drupal iCal API//EN
BEGIN:VEVENT
SUMMARY: Montpellier : Simulation d'entretien d'embauche
DTSTART: 20231127T070000
DTEND: 20231127T070000
DESCRIPTION: AFT OCCITANIE fera des simulations d'entretien d'embauche avec FACE HERAULT au lycée Jules Guesde de Montpellier le lundi 27 novembre prochain de 8h à 12h.&nbsp;
END:VEVENT
BEGIN:VEVENT
SUMMARY: Montpellier : Simulation d'entretien d'embauche
DTSTART: 20231127T070000
DTEND: 20231127T070000
DESCRIPTION: AFT OCCITANIE fera des simulations d'entretien d'embauche avec FACE HERAULT au lycée Jules Guesde de Montpellier le lundi 27 novembre prochain de 8h à 12h.&nbsp;
END:VEVENT
BEGIN:VEVENT
SUMMARY: Montpellier : Simulation d'entretien d'embauche
DTSTART: 20231127T070000
DTEND: 20231127T070000
DESCRIPTION: AFT OCCITANIE fera des simulations d'entretien d'embauche avec FACE HERAULT au lycée Jules Guesde de Montpellier le lundi 27 novembre prochain de 8h à 12h.&nbsp;
END:VEVENT
END:VCALENDAR
