BEGIN:VCALENDAR
VERSION:2.0
METHOD:PUBLISH
X-WR-CALNAME;VALUE=TEXT:Agenda #6083
PRODID:-//Drupal iCal API//EN
BEGIN:VEVENT
SUMMARY: Montpellier : Les jeunes de la mission locale découvrent les métiers de la logistique
DTSTART: 20231127T130000
DTEND: 20231127T130000
DESCRIPTION: C'est dans les locaux d'AUCHAN LOGISTIQUE de Pérols (34) que les jeunes&nbsp;de la Mission locale Jeunes de Montpellier vont découvrir les métiers de la logistique lundi 27 novembre de 14h à 16h.&nbsp;
END:VEVENT
BEGIN:VEVENT
SUMMARY: Montpellier : Les jeunes de la mission locale découvrent les métiers de la logistique
DTSTART: 20231127T130000
DTEND: 20231127T130000
DESCRIPTION: C'est dans les locaux d'AUCHAN LOGISTIQUE de Pérols (34) que les jeunes&nbsp;de la Mission locale Jeunes de Montpellier vont découvrir les métiers de la logistique lundi 27 novembre de 14h à 16h.&nbsp;
END:VEVENT
END:VCALENDAR
