BEGIN:VCALENDAR
VERSION:2.0
METHOD:PUBLISH
X-WR-CALNAME;VALUE=TEXT:Agenda #609
PRODID:-//Drupal iCal API//EN
BEGIN:VEVENT
SUMMARY: Mission locale d'insertion février 2017
DTSTART: 20170202T080000
DTEND: 20170202T170000
DESCRIPTION: Le rôle de l'AFT est d'informer les plus larges publics vers les métiers du secteur du Transport et de la Logistique tels que les publics des missions locales d'insertion, des Pôles Emploi , des Ecoles de la 2ème chance....., de l'Education Nationale ;
END:VEVENT
BEGIN:VEVENT
SUMMARY: Mission locale d'insertion février 2017
DTSTART: 20170202T080000
DTEND: 20170202T170000
DESCRIPTION: Le rôle de l'AFT est d'informer les plus larges publics vers les métiers du secteur du Transport et de la Logistique tels que les publics des missions locales d'insertion, des Pôles Emploi , des Ecoles de la 2ème chance....., de l'Education Nationale ;
END:VEVENT
END:VCALENDAR
