BEGIN:VCALENDAR
VERSION:2.0
METHOD:PUBLISH
X-WR-CALNAME;VALUE=TEXT:Agenda #6102
PRODID:-//Drupal iCal API//EN
BEGIN:VEVENT
SUMMARY: Découvrez les Métiers du Transport et de la Logistique grâce au Pôle Emploi, à l'AFTRAL et l'AFT du secteur tourangeau
DTSTART: 20231206T130000
DTEND: 20231206T160000
DESCRIPTION: Du 4 au 8 décembre, Pôle Emploi organise une semaine spéciale dédiée au transport et à la logistique. Le mercredi 6 décembre, en collaboration avec l'AFT et l'AFTRAL. Un événement est organisé dans deux endroits en simultané pour les passionnés du secteur, les étudiants, et les personnes en recherche d'emploi de découvrir les métiers du transport et de la logistique.
END:VEVENT
BEGIN:VEVENT
SUMMARY: Découvrez les Métiers du Transport et de la Logistique grâce au Pôle Emploi, à l'AFTRAL et l'AFT du secteur tourangeau
DTSTART: 20231206T130000
DTEND: 20231206T160000
DESCRIPTION: Du 4 au 8 décembre, Pôle Emploi organise une semaine spéciale dédiée au transport et à la logistique. Le mercredi 6 décembre, en collaboration avec l'AFT et l'AFTRAL. Un événement est organisé dans deux endroits en simultané pour les passionnés du secteur, les étudiants, et les personnes en recherche d'emploi de découvrir les métiers du transport et de la logistique.
END:VEVENT
END:VCALENDAR
