BEGIN:VCALENDAR
VERSION:2.0
METHOD:PUBLISH
X-WR-CALNAME;VALUE=TEXT:Agenda #6117
PRODID:-//Drupal iCal API//EN
BEGIN:VEVENT
SUMMARY: Forum de Chartres Boost Emploi : Un Café Boostemploi à Janville-en-Beauce
DTSTART: 20231205T123000
DTEND: 20231205T153000
DESCRIPTION: Le Café Boostemploi, fruit de la collaboration entre le Conseil Départemental d'Eure-et-Loir, la Communauté de Communes Cœur de Beauce, et Pôle emploi, offrira une plateforme unique où une quinzaine d'entreprises locales se rencontrent autour d'un café pour discuter emplois, compétences, et perspectives d'avenir.
&nbsp;
END:VEVENT
BEGIN:VEVENT
SUMMARY: Forum de Chartres Boost Emploi : Un Café Boostemploi à Janville-en-Beauce
DTSTART: 20231205T123000
DTEND: 20231205T153000
DESCRIPTION: Le Café Boostemploi, fruit de la collaboration entre le Conseil Départemental d'Eure-et-Loir, la Communauté de Communes Cœur de Beauce, et Pôle emploi, offrira une plateforme unique où une quinzaine d'entreprises locales se rencontrent autour d'un café pour discuter emplois, compétences, et perspectives d'avenir.
&nbsp;
END:VEVENT
BEGIN:VEVENT
SUMMARY: Forum de Chartres Boost Emploi : Un Café Boostemploi à Janville-en-Beauce
DTSTART: 20231205T123000
DTEND: 20231205T153000
DESCRIPTION: Le Café Boostemploi, fruit de la collaboration entre le Conseil Départemental d'Eure-et-Loir, la Communauté de Communes Cœur de Beauce, et Pôle emploi, offrira une plateforme unique où une quinzaine d'entreprises locales se rencontrent autour d'un café pour discuter emplois, compétences, et perspectives d'avenir.
&nbsp;
END:VEVENT
END:VCALENDAR
