BEGIN:VCALENDAR
VERSION:2.0
METHOD:PUBLISH
X-WR-CALNAME;VALUE=TEXT:Agenda #6119
PRODID:-//Drupal iCal API//EN
BEGIN:VEVENT
SUMMARY: Dialogue avec un Pro : À la Rencontre de Ronan Molinengault, Vainqueur du Trophée des Routiers 2023
DTSTART: 20231206T090000
DTEND: 20231206T100000
DESCRIPTION: Du 4 au 8 décembre, Pôle Emploi initie une semaine dédiée au secteur du transport et de la logistique. Au cœur de cette initiative, l'événement "Dialogue avec un Pro" se démarque en offrant une opportunité unique aux demandeurs d'emploi d'explorer les coulisses du transport en dialoguant directement avec un professionnel du domaine.
END:VEVENT
BEGIN:VEVENT
SUMMARY: Dialogue avec un Pro : À la Rencontre de Ronan Molinengault, Vainqueur du Trophée des Routiers 2023
DTSTART: 20231206T090000
DTEND: 20231206T100000
DESCRIPTION: Du 4 au 8 décembre, Pôle Emploi initie une semaine dédiée au secteur du transport et de la logistique. Au cœur de cette initiative, l'événement "Dialogue avec un Pro" se démarque en offrant une opportunité unique aux demandeurs d'emploi d'explorer les coulisses du transport en dialoguant directement avec un professionnel du domaine.
END:VEVENT
BEGIN:VEVENT
SUMMARY: Dialogue avec un Pro : À la Rencontre de Ronan Molinengault, Vainqueur du Trophée des Routiers 2023
DTSTART: 20231206T090000
DTEND: 20231206T100000
DESCRIPTION: Du 4 au 8 décembre, Pôle Emploi initie une semaine dédiée au secteur du transport et de la logistique. Au cœur de cette initiative, l'événement "Dialogue avec un Pro" se démarque en offrant une opportunité unique aux demandeurs d'emploi d'explorer les coulisses du transport en dialoguant directement avec un professionnel du domaine.
END:VEVENT
BEGIN:VEVENT
SUMMARY: Dialogue avec un Pro : À la Rencontre de Ronan Molinengault, Vainqueur du Trophée des Routiers 2023
DTSTART: 20231206T090000
DTEND: 20231206T100000
DESCRIPTION: Du 4 au 8 décembre, Pôle Emploi initie une semaine dédiée au secteur du transport et de la logistique. Au cœur de cette initiative, l'événement "Dialogue avec un Pro" se démarque en offrant une opportunité unique aux demandeurs d'emploi d'explorer les coulisses du transport en dialoguant directement avec un professionnel du domaine.
END:VEVENT
END:VCALENDAR
