BEGIN:VCALENDAR
VERSION:2.0
METHOD:PUBLISH
X-WR-CALNAME;VALUE=TEXT:Agenda #6121
PRODID:-//Drupal iCal API//EN
BEGIN:VEVENT
SUMMARY:  Découvrez les Métiers du Transport et de la Logistique au Pôle Emploi de Bourges Baudens
DTSTART: 20231208T123001
DTEND: 20231208T144500
DESCRIPTION: Le vendredi 8 décembre prochain, de 13h30 à 15h45, le Pôle Emploi de Bourges Baudens vous invite à explorer les opportunités passionnantes dans les domaines du transport de marchandises, du transport de voyageurs, et de la logistique.
END:VEVENT
BEGIN:VEVENT
SUMMARY:  Découvrez les Métiers du Transport et de la Logistique au Pôle Emploi de Bourges Baudens
DTSTART: 20231208T123001
DTEND: 20231208T144500
DESCRIPTION: Le vendredi 8 décembre prochain, de 13h30 à 15h45, le Pôle Emploi de Bourges Baudens vous invite à explorer les opportunités passionnantes dans les domaines du transport de marchandises, du transport de voyageurs, et de la logistique.
END:VEVENT
BEGIN:VEVENT
SUMMARY:  Découvrez les Métiers du Transport et de la Logistique au Pôle Emploi de Bourges Baudens
DTSTART: 20231208T123001
DTEND: 20231208T144500
DESCRIPTION: Le vendredi 8 décembre prochain, de 13h30 à 15h45, le Pôle Emploi de Bourges Baudens vous invite à explorer les opportunités passionnantes dans les domaines du transport de marchandises, du transport de voyageurs, et de la logistique.
END:VEVENT
END:VCALENDAR
