BEGIN:VCALENDAR
VERSION:2.0
METHOD:PUBLISH
X-WR-CALNAME;VALUE=TEXT:Agenda #6122
PRODID:-//Drupal iCal API//EN
BEGIN:VEVENT
SUMMARY: Evènement d'orientation au lycée des métiers Jean Mermoz le 8 décembre 2023
DTSTART: 20231208T170000
DTEND: 20231208T200000
DESCRIPTION: Le Lycée des métiers Jean MERMOZ a le plaisir d'inviter chaleureusement ses précieuses entreprises partenaires à deux événements captivants qui auront lieu le Vendredi 8 Décembre 2023.
END:VEVENT
BEGIN:VEVENT
SUMMARY: Evènement d'orientation au lycée des métiers Jean Mermoz le 8 décembre 2023
DTSTART: 20231208T170000
DTEND: 20231208T200000
DESCRIPTION: Le Lycée des métiers Jean MERMOZ a le plaisir d'inviter chaleureusement ses précieuses entreprises partenaires à deux événements captivants qui auront lieu le Vendredi 8 Décembre 2023.
END:VEVENT
BEGIN:VEVENT
SUMMARY: Evènement d'orientation au lycée des métiers Jean Mermoz le 8 décembre 2023
DTSTART: 20231208T170000
DTEND: 20231208T200000
DESCRIPTION: Le Lycée des métiers Jean MERMOZ a le plaisir d'inviter chaleureusement ses précieuses entreprises partenaires à deux événements captivants qui auront lieu le Vendredi 8 Décembre 2023.
END:VEVENT
BEGIN:VEVENT
SUMMARY: Evènement d'orientation au lycée des métiers Jean Mermoz le 8 décembre 2023
DTSTART: 20231208T170000
DTEND: 20231208T200000
DESCRIPTION: Le Lycée des métiers Jean MERMOZ a le plaisir d'inviter chaleureusement ses précieuses entreprises partenaires à deux événements captivants qui auront lieu le Vendredi 8 Décembre 2023.
END:VEVENT
END:VCALENDAR
