BEGIN:VCALENDAR
VERSION:2.0
METHOD:PUBLISH
X-WR-CALNAME;VALUE=TEXT:Agenda #6123
PRODID:-//Drupal iCal API//EN
BEGIN:VEVENT
SUMMARY: Visite de l'Entreprise de logistique PPLOG à Fay aux Loges le 12 Décembre
DTSTART: 20231212T093000
DTEND: 20231212T103000
DESCRIPTION: Une visite&nbsp;de l'entreprise de logistique PPLOG à Fay aux Loges est programmée pour le Mardi 12 Décembre de 10h30 à 11h30.
END:VEVENT
BEGIN:VEVENT
SUMMARY: Visite de l'Entreprise de logistique PPLOG à Fay aux Loges le 12 Décembre
DTSTART: 20231212T093000
DTEND: 20231212T103000
DESCRIPTION: Une visite&nbsp;de l'entreprise de logistique PPLOG à Fay aux Loges est programmée pour le Mardi 12 Décembre de 10h30 à 11h30.
END:VEVENT
END:VCALENDAR
