BEGIN:VCALENDAR
VERSION:2.0
METHOD:PUBLISH
X-WR-CALNAME;VALUE=TEXT:Agenda #6124
PRODID:-//Drupal iCal API//EN
BEGIN:VEVENT
SUMMARY: Opportunités d'Emploi dans le Transport et la Logistique : Job Dating à Blois Pôle Emploi
DTSTART: 20231213T124500
DTEND: 20231213T150000
DESCRIPTION: Le Pôle Emploi de Blois Gare organise un événement incontournable le 13 décembre de 13h45&nbsp;à 16h. Venez découvrir les opportunités professionnelles passionnantes dans le secteur du transport et de la logistique.
END:VEVENT
BEGIN:VEVENT
SUMMARY: Opportunités d'Emploi dans le Transport et la Logistique : Job Dating à Blois Pôle Emploi
DTSTART: 20231213T124500
DTEND: 20231213T150000
DESCRIPTION: Le Pôle Emploi de Blois Gare organise un événement incontournable le 13 décembre de 13h45&nbsp;à 16h. Venez découvrir les opportunités professionnelles passionnantes dans le secteur du transport et de la logistique.
END:VEVENT
BEGIN:VEVENT
SUMMARY: Opportunités d'Emploi dans le Transport et la Logistique : Job Dating à Blois Pôle Emploi
DTSTART: 20231213T124500
DTEND: 20231213T150000
DESCRIPTION: Le Pôle Emploi de Blois Gare organise un événement incontournable le 13 décembre de 13h45&nbsp;à 16h. Venez découvrir les opportunités professionnelles passionnantes dans le secteur du transport et de la logistique.
END:VEVENT
END:VCALENDAR
