BEGIN:VCALENDAR
VERSION:2.0
METHOD:PUBLISH
X-WR-CALNAME;VALUE=TEXT:Agenda #6125
PRODID:-//Drupal iCal API//EN
BEGIN:VEVENT
SUMMARY: Rendez-vous pour l'Emploi - Parcours Avenir à Orléans
DTSTART: 20231214T080000
DTEND: 20231214T111500
DESCRIPTION: L'AFT&nbsp;sera présente&nbsp;le&nbsp;mercredi&nbsp;8 décembre 2021&nbsp;de 9h à 12h au&nbsp;Collège Etienne Dolet&nbsp;à Orléans pour la première édition du&nbsp;Rendez-vous pour l’emploi «&nbsp;Parcours Avenir ».

A cette occasion les élèves de 4e des collèges pourront être sensibilisés aux métiers du transport et de la logistique ainsi qu'aux autres secteurs représentés afin de s'orienter.
END:VEVENT
BEGIN:VEVENT
SUMMARY: Rendez-vous pour l'Emploi - Parcours Avenir à Orléans
DTSTART: 20231214T080000
DTEND: 20231214T111500
DESCRIPTION: L'AFT&nbsp;sera présente&nbsp;le&nbsp;mercredi&nbsp;8 décembre 2021&nbsp;de 9h à 12h au&nbsp;Collège Etienne Dolet&nbsp;à Orléans pour la première édition du&nbsp;Rendez-vous pour l’emploi «&nbsp;Parcours Avenir ».

A cette occasion les élèves de 4e des collèges pourront être sensibilisés aux métiers du transport et de la logistique ainsi qu'aux autres secteurs représentés afin de s'orienter.
END:VEVENT
BEGIN:VEVENT
SUMMARY: Rendez-vous pour l'Emploi - Parcours Avenir à Orléans
DTSTART: 20231214T080000
DTEND: 20231214T111500
DESCRIPTION: L'AFT&nbsp;sera présente&nbsp;le&nbsp;mercredi&nbsp;8 décembre 2021&nbsp;de 9h à 12h au&nbsp;Collège Etienne Dolet&nbsp;à Orléans pour la première édition du&nbsp;Rendez-vous pour l’emploi «&nbsp;Parcours Avenir ».

A cette occasion les élèves de 4e des collèges pourront être sensibilisés aux métiers du transport et de la logistique ainsi qu'aux autres secteurs représentés afin de s'orienter.
END:VEVENT
BEGIN:VEVENT
SUMMARY: Rendez-vous pour l'Emploi - Parcours Avenir à Orléans
DTSTART: 20231214T080000
DTEND: 20231214T111500
DESCRIPTION: L'AFT&nbsp;sera présente&nbsp;le&nbsp;mercredi&nbsp;8 décembre 2021&nbsp;de 9h à 12h au&nbsp;Collège Etienne Dolet&nbsp;à Orléans pour la première édition du&nbsp;Rendez-vous pour l’emploi «&nbsp;Parcours Avenir ».

A cette occasion les élèves de 4e des collèges pourront être sensibilisés aux métiers du transport et de la logistique ainsi qu'aux autres secteurs représentés afin de s'orienter.
END:VEVENT
END:VCALENDAR
