BEGIN:VCALENDAR
VERSION:2.0
METHOD:PUBLISH
X-WR-CALNAME;VALUE=TEXT:Agenda #6126
PRODID:-//Drupal iCal API//EN
BEGIN:VEVENT
SUMMARY: Saint Jory : Forum Emploi Transport Logistique
DTSTART: 20231208T080000
DTEND: 20231208T080000
DESCRIPTION: L'AFT Occitanie participera le vendredi 8 décembre prochain de 9h à 12h30 à la salle Julien Vidal à St Jory au forum Emploi Transport Logistique

&nbsp;

Les Demandeurs d'emploi pourront rencontrer une dizaine d'entreprises du transport et de la logistique dont nombreuses sont présentes sur Eurocentre (L'entreprise Perrenot, Jardel, Berto, Chauchard, Stef, Neodis, Garonne Fruits...)&nbsp;
END:VEVENT
BEGIN:VEVENT
SUMMARY: Saint Jory : Forum Emploi Transport Logistique
DTSTART: 20231208T080000
DTEND: 20231208T080000
DESCRIPTION: L'AFT Occitanie participera le vendredi 8 décembre prochain de 9h à 12h30 à la salle Julien Vidal à St Jory au forum Emploi Transport Logistique

&nbsp;

Les Demandeurs d'emploi pourront rencontrer une dizaine d'entreprises du transport et de la logistique dont nombreuses sont présentes sur Eurocentre (L'entreprise Perrenot, Jardel, Berto, Chauchard, Stef, Neodis, Garonne Fruits...)&nbsp;
END:VEVENT
BEGIN:VEVENT
SUMMARY: Saint Jory : Forum Emploi Transport Logistique
DTSTART: 20231208T080000
DTEND: 20231208T080000
DESCRIPTION: L'AFT Occitanie participera le vendredi 8 décembre prochain de 9h à 12h30 à la salle Julien Vidal à St Jory au forum Emploi Transport Logistique

&nbsp;

Les Demandeurs d'emploi pourront rencontrer une dizaine d'entreprises du transport et de la logistique dont nombreuses sont présentes sur Eurocentre (L'entreprise Perrenot, Jardel, Berto, Chauchard, Stef, Neodis, Garonne Fruits...)&nbsp;
END:VEVENT
END:VCALENDAR
