BEGIN:VCALENDAR
VERSION:2.0
METHOD:PUBLISH
X-WR-CALNAME;VALUE=TEXT:Agenda #6130
PRODID:-//Drupal iCal API//EN
BEGIN:VEVENT
SUMMARY: 05 &amp; 06 décembre : Forum des métiers et des formations 2023
DTSTART: 20231205T133000
DTEND: 20231206T150000
DESCRIPTION: Venez découvrir les métiers du transport et de la logistique avec l'AFT Ile-de-France au&nbsp;Forum des Métiers et des formations 2023&nbsp;à Mantes-la-Jolie le 05 &amp; 06 décembre!

En échangeant avec des professionnels, et/ou des représentants d’établissements de formation, les collégiens de la 4ème à la 3ème et lycéens auront l’opportunité de découvrir la diversité des secteurs d’activité représentés et ainsi d’affiner leur projet d’orientation.&nbsp;
END:VEVENT
END:VCALENDAR
