BEGIN:VCALENDAR
VERSION:2.0
METHOD:PUBLISH
X-WR-CALNAME;VALUE=TEXT:Agenda #6132
PRODID:-//Drupal iCal API//EN
BEGIN:VEVENT
SUMMARY: Samedi 09 décembre : Forum de l'orientation au lycée Pauline Roland
DTSTART: 20231209T080000
DTEND: 20231209T110000
DESCRIPTION: Le lycée Pauline Roland situé à Chevilly-Larue organise un forum de l'orientation et des métiers avec 40 participants (écoles, anciens élèves, étudiants, entreprises publiques et privées) le samedi 09 décembre.

Venez découvrir les métiers du transport et de la logistique avec l'AFT Ile-de-France !
END:VEVENT
END:VCALENDAR
