BEGIN:VCALENDAR
VERSION:2.0
METHOD:PUBLISH
X-WR-CALNAME;VALUE=TEXT:Agenda #6140
PRODID:-//Drupal iCal API//EN
BEGIN:VEVENT
SUMMARY: Clermont l'hérault : Détection de potentiel Transport/Logistique
DTSTART: 20231212T080000
DTEND: 20231212T080000
DESCRIPTION: L'AFT Occitanie accompagnera le Pôle Emploi de Clermont l'hérault le Mardi 12 décembre prochain de 9h à 11h dans la détection de potentiel dans le transport et la logistique.&nbsp;
END:VEVENT
BEGIN:VEVENT
SUMMARY: Clermont l'hérault : Détection de potentiel Transport/Logistique
DTSTART: 20231212T080000
DTEND: 20231212T080000
DESCRIPTION: L'AFT Occitanie accompagnera le Pôle Emploi de Clermont l'hérault le Mardi 12 décembre prochain de 9h à 11h dans la détection de potentiel dans le transport et la logistique.&nbsp;
END:VEVENT
BEGIN:VEVENT
SUMMARY: Clermont l'hérault : Détection de potentiel Transport/Logistique
DTSTART: 20231212T080000
DTEND: 20231212T080000
DESCRIPTION: L'AFT Occitanie accompagnera le Pôle Emploi de Clermont l'hérault le Mardi 12 décembre prochain de 9h à 11h dans la détection de potentiel dans le transport et la logistique.&nbsp;
END:VEVENT
END:VCALENDAR
