BEGIN:VCALENDAR
VERSION:2.0
METHOD:PUBLISH
X-WR-CALNAME;VALUE=TEXT:Agenda #6142
PRODID:-//Drupal iCal API//EN
BEGIN:VEVENT
SUMMARY: Vauvert : Visite de l'entreprise STRANIC avec les jeunes de l'EPIDE
DTSTART: 20231213T130000
DTEND: 20231213T130000
DESCRIPTION: L'AFT Occitanie présentera les métiers du transport&nbsp; le mercredi 13 décembre prochain de 14h à 17h aux jeunes de l'Epide d'Alès avec une visite de l'entreprise STRANIC située à Vauvert.&nbsp;
END:VEVENT
BEGIN:VEVENT
SUMMARY: Vauvert : Visite de l'entreprise STRANIC avec les jeunes de l'EPIDE
DTSTART: 20231213T130000
DTEND: 20231213T130000
DESCRIPTION: L'AFT Occitanie présentera les métiers du transport&nbsp; le mercredi 13 décembre prochain de 14h à 17h aux jeunes de l'Epide d'Alès avec une visite de l'entreprise STRANIC située à Vauvert.&nbsp;
END:VEVENT
BEGIN:VEVENT
SUMMARY: Vauvert : Visite de l'entreprise STRANIC avec les jeunes de l'EPIDE
DTSTART: 20231213T130000
DTEND: 20231213T130000
DESCRIPTION: L'AFT Occitanie présentera les métiers du transport&nbsp; le mercredi 13 décembre prochain de 14h à 17h aux jeunes de l'Epide d'Alès avec une visite de l'entreprise STRANIC située à Vauvert.&nbsp;
END:VEVENT
END:VCALENDAR
