BEGIN:VCALENDAR
VERSION:2.0
METHOD:PUBLISH
X-WR-CALNAME;VALUE=TEXT:Agenda #615
PRODID:-//Drupal iCal API//EN
BEGIN:VEVENT
SUMMARY: Interventions éducation nationale - Janvier 2017
DTSTART: 20170111T070000
DTEND: 20170128T113000
DESCRIPTION: Le rôle de l'AFT est d'informer les plus larges publics vers les métiers du secteur du Transport et de la Logistique tels que les publics des missions locales d'insertion, des Pôles Emploi , des Ecoles de la 2ème chance....., de l'Education Nationale ;
END:VEVENT
BEGIN:VEVENT
SUMMARY: Interventions éducation nationale - Janvier 2017
DTSTART: 20170111T070000
DTEND: 20170128T113000
DESCRIPTION: Le rôle de l'AFT est d'informer les plus larges publics vers les métiers du secteur du Transport et de la Logistique tels que les publics des missions locales d'insertion, des Pôles Emploi , des Ecoles de la 2ème chance....., de l'Education Nationale ;
END:VEVENT
BEGIN:VEVENT
SUMMARY: Interventions éducation nationale - Janvier 2017
DTSTART: 20170111T070000
DTEND: 20170128T113000
DESCRIPTION: Le rôle de l'AFT est d'informer les plus larges publics vers les métiers du secteur du Transport et de la Logistique tels que les publics des missions locales d'insertion, des Pôles Emploi , des Ecoles de la 2ème chance....., de l'Education Nationale ;
END:VEVENT
END:VCALENDAR
