BEGIN:VCALENDAR
VERSION:2.0
METHOD:PUBLISH
X-WR-CALNAME;VALUE=TEXT:Agenda #6159
PRODID:-//Drupal iCal API//EN
BEGIN:VEVENT
SUMMARY: Castres : Forum au lycée professionnel Anne Veaute
DTSTART: 20240109T130000
DTEND: 20240109T130000
DESCRIPTION: L'AFT Occitanie présentera les métiers du transport et de la logistique le Mardi 9 janvier prochain de 14h à 17h&nbsp; aux élèves lors du forum organisé par le Lycée Professionnel Anne Veaute de Castres.&nbsp;
END:VEVENT
BEGIN:VEVENT
SUMMARY: Castres : Forum au lycée professionnel Anne Veaute
DTSTART: 20240109T130000
DTEND: 20240109T130000
DESCRIPTION: L'AFT Occitanie présentera les métiers du transport et de la logistique le Mardi 9 janvier prochain de 14h à 17h&nbsp; aux élèves lors du forum organisé par le Lycée Professionnel Anne Veaute de Castres.&nbsp;
END:VEVENT
BEGIN:VEVENT
SUMMARY: Castres : Forum au lycée professionnel Anne Veaute
DTSTART: 20240109T130000
DTEND: 20240109T130000
DESCRIPTION: L'AFT Occitanie présentera les métiers du transport et de la logistique le Mardi 9 janvier prochain de 14h à 17h&nbsp; aux élèves lors du forum organisé par le Lycée Professionnel Anne Veaute de Castres.&nbsp;
END:VEVENT
END:VCALENDAR
