BEGIN:VCALENDAR
VERSION:2.0
METHOD:PUBLISH
X-WR-CALNAME;VALUE=TEXT:Agenda #616
PRODID:-//Drupal iCal API//EN
BEGIN:VEVENT
SUMMARY: Forum éducation nationale - Janvier 2017
DTSTART: 20170110T080000
DTEND: 20170110T160000
DESCRIPTION: L'Association lycée Avenir composée de personnels de direction des lycées publics de Nîmes, des directeurs des Centres d'Information et d'Orientation de Nîmes et de parents d'élèves vous annonce la 29ème édition du Salon LYCEE AVENIR
END:VEVENT
BEGIN:VEVENT
SUMMARY: Forum éducation nationale - Janvier 2017
DTSTART: 20170110T080000
DTEND: 20170110T160000
DESCRIPTION: L'Association lycée Avenir composée de personnels de direction des lycées publics de Nîmes, des directeurs des Centres d'Information et d'Orientation de Nîmes et de parents d'élèves vous annonce la 29ème édition du Salon LYCEE AVENIR
END:VEVENT
BEGIN:VEVENT
SUMMARY: Forum éducation nationale - Janvier 2017
DTSTART: 20170110T080000
DTEND: 20170110T160000
DESCRIPTION: L'Association lycée Avenir composée de personnels de direction des lycées publics de Nîmes, des directeurs des Centres d'Information et d'Orientation de Nîmes et de parents d'élèves vous annonce la 29ème édition du Salon LYCEE AVENIR
END:VEVENT
END:VCALENDAR
