BEGIN:VCALENDAR
VERSION:2.0
METHOD:PUBLISH
X-WR-CALNAME;VALUE=TEXT:Agenda #6176
PRODID:-//Drupal iCal API//EN
BEGIN:VEVENT
SUMMARY: Salon Formation Emploi Alsace
DTSTART: 20240126T080000
DTEND: 20240127T170000
DESCRIPTION: Venez à la rencontre de l'AFT Transport &amp; Logistique pour une expérience de conduite sur simulateur.

Vous pourrez échanger avec des professionnels sur les métiers et formations du Transport.

Un partenariat avec les Entreprises LK avec qui nous partagerons un stand.

&nbsp;

Entrée libre, tous public
END:VEVENT
BEGIN:VEVENT
SUMMARY: Salon Formation Emploi Alsace
DTSTART: 20240126T080000
DTEND: 20240127T170000
DESCRIPTION: Venez à la rencontre de l'AFT Transport &amp; Logistique pour une expérience de conduite sur simulateur.

Vous pourrez échanger avec des professionnels sur les métiers et formations du Transport.

Un partenariat avec les Entreprises LK avec qui nous partagerons un stand.

&nbsp;

Entrée libre, tous public
END:VEVENT
END:VCALENDAR
