BEGIN:VCALENDAR
VERSION:2.0
METHOD:PUBLISH
X-WR-CALNAME;VALUE=TEXT:Agenda #6178
PRODID:-//Drupal iCal API//EN
BEGIN:VEVENT
SUMMARY: Lundi 08 janvier : Escape Game sur les métiers de la logistique au GRETA de Fontainebleau
DTSTART: 20240108T130000
DTEND: 20240108T150000
DESCRIPTION: Lundi 08 janvier, les stagiaires en formation logistique du GRETA de Fontainebleau découvriront les différents métiers de la logistique lors d'un Escape Game avec l'AFT Ile-de-France.
END:VEVENT
END:VCALENDAR
