BEGIN:VCALENDAR
VERSION:2.0
METHOD:PUBLISH
X-WR-CALNAME;VALUE=TEXT:Agenda #6179
PRODID:-//Drupal iCal API//EN
BEGIN:VEVENT
SUMMARY: Jeudi 11 janvier: le job truck du CBE débute l'année devant Belle Epine
DTSTART: 20240111T130000
DTEND: 20240111T160000
DESCRIPTION: Le jeudi 11 janvier, le job truck du CBE s'installe devant le centre commercial de Belle Epine.

Venez nombreux découvrir les métiers et les opportunités du secteur du transport et de la logistique avec l'AFT Ile-de-France.

&nbsp;
END:VEVENT
END:VCALENDAR
